BEGIN:VCALENDAR
VERSION:2.0
PRODID:-//Sabre//Sabre VObject 4.5.8//EN
CALSCALE:GREGORIAN
BEGIN:VEVENT
UID:sabre-vobject-f6a80293-ed57-470f-8880-d7284b6c4710
DTSTAMP:20260424T082240Z
SUMMARY:Ball to the Wall: Racquetball Tourney
DESCRIPTION:Come out and show your prowess on the court.\n
X-ALT-DESC:FMTTYPE=text/html:<!DOCTYPE HTML PUBLIC "-//W3C//DTD HTML 3.2//E
 N"><HTML><p>Come out and show your prowess on the court.</p>\n</HTML>
CREATED;TZID=America/Chicago:20241106T121929
URL;VALUE=URI:https://hood.armymwr.com/view-event
DTSTART;TZID=America/Chicago:20241116T080000
DTEND;TZID=America/Chicago:20241116T150000
SEQUENCE:0
END:VEVENT
END:VCALENDAR
