BEGIN:VCALENDAR
VERSION:2.0
PRODID:-//Sabre//Sabre VObject 4.5.8//EN
CALSCALE:GREGORIAN
BEGIN:VEVENT
UID:sabre-vobject-c5e3c48d-c1c7-4178-a397-06a17f01e0cb
DTSTAMP:20260424T081240Z
SUMMARY:Impossible Mile
DESCRIPTION:Join us for a FREE fitness event!\n
X-ALT-DESC:FMTTYPE=text/html:<!DOCTYPE HTML PUBLIC "-//W3C//DTD HTML 3.2//E
 N"><HTML><p>Join us for a FREE fitness event!</p>\n</HTML>
CREATED;TZID=America/Chicago:20241105T220838
URL;VALUE=URI:https://hood.armymwr.com/view-event
DTSTART;TZID=America/Chicago:20241116T090000
DTEND;TZID=America/Chicago:20241116T100000
SEQUENCE:0
END:VEVENT
END:VCALENDAR
