BEGIN:VCALENDAR
VERSION:2.0
PRODID:-//Sabre//Sabre VObject 4.5.8//EN
CALSCALE:GREGORIAN
BEGIN:VEVENT
UID:sabre-vobject-7163f122-1024-4661-afd4-5f1507c79744
DTSTAMP:20260424T051455Z
SUMMARY:Muscle Mayhem
DESCRIPTION:Nothing but Strength: Do you have what it takes to pull off the
  win?\n
X-ALT-DESC:FMTTYPE=text/html:<!DOCTYPE HTML PUBLIC "-//W3C//DTD HTML 3.2//E
 N"><HTML><p>Nothing but Strength: Do you have what it takes to pull off th
 e win?</p>\n</HTML>
CREATED;TZID=America/Chicago:20241106T111653
URL;VALUE=URI:https://hood.armymwr.com/view-event
DTSTART;TZID=America/Chicago:20241116T110000
DTEND;TZID=America/Chicago:20241116T160000
SEQUENCE:0
END:VEVENT
END:VCALENDAR
