BEGIN:VCALENDAR
VERSION:2.0
PRODID:-//Sabre//Sabre VObject 4.5.8//EN
CALSCALE:GREGORIAN
BEGIN:VEVENT
UID:sabre-vobject-ecaef80f-b0da-40d8-9853-69ffeaf4554a
DTSTAMP:20260426T013823Z
SUMMARY:Intro to Kayaking
DESCRIPTION:Get outdoors and take on some adventure with us!\n
X-ALT-DESC:FMTTYPE=text/html:<!DOCTYPE HTML PUBLIC "-//W3C//DTD HTML 3.2//E
 N"><HTML><p>Get outdoors and take on some adventure with us!</p>\n</HTML>
CREATED;TZID=America/Chicago:20240930T161928
URL;VALUE=URI:https://hood.armymwr.com/view-event
DTSTART;TZID=America/Chicago:20241005T100000
DTEND;TZID=America/Chicago:20241005T120000
SEQUENCE:0
END:VEVENT
END:VCALENDAR
