BEGIN:VCALENDAR
VERSION:2.0
PRODID:-//Sabre//Sabre VObject 4.5.8//EN
CALSCALE:GREGORIAN
BEGIN:VEVENT
UID:sabre-vobject-74543ef7-6af5-4a3f-8e98-b0b588c91adc
DTSTAMP:20260425T103756Z
SUMMARY:28th Anniversary Bingo
DESCRIPTION:Join us for a ton of fun and a chance to yell B*I*N*G*O for $10
 \,000\n
X-ALT-DESC:FMTTYPE=text/html:<!DOCTYPE HTML PUBLIC "-//W3C//DTD HTML 3.2//E
 N"><HTML><p>Join us for a ton of fun and a chance to yell B*I*N*G*O for $1
 0\,000</p>\n</HTML>
CREATED;TZID=America/Chicago:20240820T112545
URL;VALUE=URI:https://hood.armymwr.com/view-event
DTSTART;TZID=America/Chicago:20241103T143000
DTEND;TZID=America/Chicago:20241103T153000
SEQUENCE:0
END:VEVENT
END:VCALENDAR
