BEGIN:VCALENDAR
VERSION:2.0
PRODID:-//Sabre//Sabre VObject 4.5.8//EN
CALSCALE:GREGORIAN
BEGIN:VEVENT
UID:sabre-vobject-19345faa-6f69-4600-8971-e747a095b2e8
DTSTAMP:20260425T103253Z
SUMMARY:Phantom Warrior Scramble     
DESCRIPTION:Open to the public!&nbsp\;Golf at your course in beautiful fall
  surroundings right here on Fort Cavazos.\n
X-ALT-DESC:FMTTYPE=text/html:<!DOCTYPE HTML PUBLIC "-//W3C//DTD HTML 3.2//E
 N"><HTML><p>Open to the public!&nbsp\;Golf at your course in beautiful fal
 l surroundings right here on Fort Cavazos.</p>\n</HTML>
CREATED;TZID=America/Chicago:20241015T145940
URL;VALUE=URI:https://hood.armymwr.com/view-event
DTSTART;TZID=America/Chicago:20241101T120000
DTEND;TZID=America/Chicago:20241101T130000
SEQUENCE:0
END:VEVENT
END:VCALENDAR
