BEGIN:VCALENDAR
VERSION:2.0
PRODID:-//Sabre//Sabre VObject 4.5.8//EN
CALSCALE:GREGORIAN
BEGIN:VEVENT
UID:sabre-vobject-9594be0c-a1f3-440a-98b0-ed54d459c2e4
DTSTAMP:20260424T171025Z
SUMMARY:Movie and Axe Throwing Trip
DESCRIPTION:Come enjoy a movie and axe throwing with Better Opportunities f
 or Single Soldiers.\n
X-ALT-DESC:FMTTYPE=text/html:<!DOCTYPE HTML PUBLIC "-//W3C//DTD HTML 3.2//E
 N"><HTML><p>Come enjoy a movie and axe throwing with Better Opportunities 
 for Single Soldiers.</p>\n</HTML>
CREATED;TZID=America/Chicago:20200127T100642
URL;VALUE=URI:https://hood.armymwr.com/view-event
DTSTART;TZID=America/Chicago:20190201T140000
DTEND;TZID=America/Chicago:20190201T150000
SEQUENCE:0
END:VEVENT
END:VCALENDAR
