BEGIN:VCALENDAR
VERSION:2.0
PRODID:-//Sabre//Sabre VObject 4.5.8//EN
CALSCALE:GREGORIAN
BEGIN:VEVENT
UID:sabre-vobject-c355cc00-cc67-4cc1-ac4e-db05c6ab2f48
DTSTAMP:20260419T232422Z
SUMMARY:UFC 239 Fight Night Watch Party
DESCRIPTION:Two championships are on the line at UFC 239&nbsp\;in a pair of
  can&rsquo\;t-miss showdowns.\n
X-ALT-DESC:FMTTYPE=text/html:<!DOCTYPE HTML PUBLIC "-//W3C//DTD HTML 3.2//E
 N"><HTML><p>Two championships are on the line at UFC 239&nbsp\;in a pair o
 f can&rsquo\;t-miss showdowns.</p>\n</HTML>
CREATED;TZID=America/Chicago:20190613T151322
URL;VALUE=URI:https://hood.armymwr.com/view-event
DTSTART;TZID=America/Chicago:20190706T190000
DTEND;TZID=America/Chicago:20190706T200000
SEQUENCE:0
END:VEVENT
END:VCALENDAR
