BEGIN:VCALENDAR
VERSION:2.0
PRODID:-//Sabre//Sabre VObject 4.5.8//EN
CALSCALE:GREGORIAN
BEGIN:VEVENT
UID:sabre-vobject-0b2a1d5f-5071-4fbb-84c8-95571ef37810
DTSTAMP:20260423T113429Z
SUMMARY:9th Annual Adaptive Sports Day
DESCRIPTION:Join the Youth &amp\; Fitness program as we have a fun-filled a
 daptive sports experience!\n
X-ALT-DESC:FMTTYPE=text/html:<!DOCTYPE HTML PUBLIC "-//W3C//DTD HTML 3.2//E
 N"><HTML><p>Join the Youth &amp\; Fitness program as we have a fun-filled 
 adaptive sports experience!</p>\n</HTML>
CREATED;TZID=America/Chicago:20190613T110204
URL;VALUE=URI:https://hood.armymwr.com/view-event
DTSTART;TZID=America/Chicago:20190621T090000
DTEND;TZID=America/Chicago:20190621T130000
SEQUENCE:0
END:VEVENT
END:VCALENDAR
