BEGIN:VCALENDAR
VERSION:2.0
PRODID:-//Sabre//Sabre VObject 4.5.8//EN
CALSCALE:GREGORIAN
BEGIN:VEVENT
UID:sabre-vobject-49a8e400-085a-48d7-be7a-d2cce348b749
DTSTAMP:20260420T161732Z
SUMMARY:Freedom Golf Tournament
DESCRIPTION:Free and Open to the first 150 Active Duty Soldiers registered\
 n
X-ALT-DESC:FMTTYPE=text/html:<!DOCTYPE HTML PUBLIC "-//W3C//DTD HTML 3.2//E
 N"><HTML><p>Free and Open to the first 150 Active Duty Soldiers registered
 </p>\n</HTML>
CREATED;TZID=America/Chicago:20190625T152542
URL;VALUE=URI:https://hood.armymwr.com/view-event
DTSTART;TZID=America/Chicago:20190628T110000
DTEND;TZID=America/Chicago:20190628T170000
SEQUENCE:0
END:VEVENT
END:VCALENDAR
