BEGIN:VCALENDAR
VERSION:2.0
PRODID:-//Sabre//Sabre VObject 4.5.8//EN
CALSCALE:GREGORIAN
BEGIN:VEVENT
UID:sabre-vobject-6d924a19-1d46-483d-899a-4f30dea3b499
DTSTAMP:20260423T113427Z
SUMMARY:Rockin' Fest
DESCRIPTION:Come out and have a fun time enjoying free food\, games\, activ
 ities and child safety demos.&nbsp\;\n
X-ALT-DESC:FMTTYPE=text/html:<!DOCTYPE HTML PUBLIC "-//W3C//DTD HTML 3.2//E
 N"><HTML><p>Come out and have a fun time enjoying free food\, games\, acti
 vities and child safety demos.&nbsp\;</p>\n</HTML>
CREATED;TZID=America/Chicago:20190612T120355
URL;VALUE=URI:https://hood.armymwr.com/view-event
DTSTART;TZID=America/Chicago:20190629T090000
DTEND;TZID=America/Chicago:20190629T120000
SEQUENCE:0
END:VEVENT
END:VCALENDAR
