BEGIN:VCALENDAR
VERSION:2.0
PRODID:-//Sabre//Sabre VObject 4.5.8//EN
CALSCALE:GREGORIAN
BEGIN:VEVENT
UID:sabre-vobject-00bb3808-a481-446f-841a-3297f8ae198d
DTSTAMP:20260421T214717Z
SUMMARY:Remembrance Run 5K Run/Walk
DESCRIPTION:In Honor of Fallen Soldiers\n
X-ALT-DESC:FMTTYPE=text/html:<!DOCTYPE HTML PUBLIC "-//W3C//DTD HTML 3.2//E
 N"><HTML><p>In Honor of Fallen Soldiers</p>\n</HTML>
CREATED;TZID=America/Chicago:20190612T120227
URL;VALUE=URI:https://hood.armymwr.com/view-event
DTSTART;TZID=America/Chicago:20190629T070000
DTEND;TZID=America/Chicago:20190629T080000
SEQUENCE:0
END:VEVENT
END:VCALENDAR
