BEGIN:VCALENDAR
VERSION:2.0
PRODID:-//Sabre//Sabre VObject 4.5.8//EN
CALSCALE:GREGORIAN
BEGIN:VEVENT
UID:sabre-vobject-7a80d99c-53d9-460d-bcd0-8d6eef5b1900
DTSTAMP:20260422T092724Z
SUMMARY:Heaven and Hell 2-Person Scramble
DESCRIPTION:Come out and show your swing\, whether good or bad\,&nbsp\;at t
 he Courses of Clear Creek.&nbsp\;This is about camaraderie and fun\, so we
  hope to see you on the course.\n
X-ALT-DESC:FMTTYPE=text/html:<!DOCTYPE HTML PUBLIC "-//W3C//DTD HTML 3.2//E
 N"><HTML><p>Come out and show your swing\, whether good or bad\,&nbsp\;at 
 the Courses of Clear Creek.&nbsp\;This is about camaraderie and fun\, so w
 e hope to see you on the course.</p>\n</HTML>
CREATED;TZID=America/Chicago:20190517T175258
URL;VALUE=URI:https://hood.armymwr.com/view-event
DTSTART;TZID=America/Chicago:20190518T090000
DTEND;TZID=America/Chicago:20190518T100000
SEQUENCE:0
END:VEVENT
END:VCALENDAR
