BEGIN:VCALENDAR
VERSION:2.0
PRODID:-//Sabre//Sabre VObject 4.5.8//EN
CALSCALE:GREGORIAN
BEGIN:VEVENT
UID:sabre-vobject-345eb97e-74cc-4281-ae9b-470eaeb0b8d1
DTSTAMP:20260422T043810Z
SUMMARY:SAC Summer Camps: Enroll Now
DESCRIPTION:Tons of activites and fun for you children in grades K through 
 5 grade completed.\n
X-ALT-DESC:FMTTYPE=text/html:<!DOCTYPE HTML PUBLIC "-//W3C//DTD HTML 3.2//E
 N"><HTML><p>Tons of activites and fun for you children in grades K through
  5 grade completed.</p>\n</HTML>
CREATED;TZID=America/Chicago:20190506T131629
URL;VALUE=URI:https://hood.armymwr.com/view-event
DTSTART;TZID=America/Chicago:20190603T053000
DTEND;TZID=America/Chicago:20190603T180000
SEQUENCE:0
END:VEVENT
END:VCALENDAR
