BEGIN:VCALENDAR
VERSION:2.0
PRODID:-//Sabre//Sabre VObject 4.5.8//EN
CALSCALE:GREGORIAN
BEGIN:VEVENT
UID:sabre-vobject-1b657d9f-daad-4012-aed1-a2048a42c1b2
DTSTAMP:20260422T192103Z
SUMMARY:Warrior Fitness Team - Meet and Greet
DESCRIPTION:Come out and visit with members of the warrior Fitness Team and
  get your band to show commitment to a healthy lifestyle.\n
X-ALT-DESC:FMTTYPE=text/html:<!DOCTYPE HTML PUBLIC "-//W3C//DTD HTML 3.2//E
 N"><HTML><p>Come out and visit with members of the warrior Fitness Team an
 d get your band to show commitment to a healthy lifestyle.</p>\n</HTML>
CREATED;TZID=America/Chicago:20190430T121613
URL;VALUE=URI:https://hood.armymwr.com/view-event
DTSTART;TZID=America/Chicago:20190506T110000
DTEND;TZID=America/Chicago:20190506T120000
SEQUENCE:0
END:VEVENT
END:VCALENDAR
