BEGIN:VCALENDAR
VERSION:2.0
PRODID:-//Sabre//Sabre VObject 4.5.8//EN
CALSCALE:GREGORIAN
BEGIN:VEVENT
UID:sabre-vobject-9548cc19-d6aa-401f-b41e-918413936db1
DTSTAMP:20260422T195429Z
SUMMARY:Cancelled - UFC 237 Fight Night Watch Party
DESCRIPTION:Cancelled due to unforeseen technical issues\n\nSamuel Adams Br
 ewhouse will not be hosting the UFC 237 Fight this weekend\n
X-ALT-DESC:FMTTYPE=text/html:<!DOCTYPE HTML PUBLIC "-//W3C//DTD HTML 3.2//E
 N"><HTML><p>Cancelled due to unforeseen technical issues</p>\n\n<p>Samuel 
 Adams Brewhouse will not be hosting the UFC 237 Fight this weekend</p>\n</
 HTML>
CREATED;TZID=America/Chicago:20190510T104012
URL;VALUE=URI:https://hood.armymwr.com/view-event
DTSTART;TZID=America/Chicago:20190511T190000
DTEND;TZID=America/Chicago:20190511T200000
SEQUENCE:0
END:VEVENT
END:VCALENDAR
