BEGIN:VCALENDAR
VERSION:2.0
PRODID:-//Sabre//Sabre VObject 4.5.8//EN
CALSCALE:GREGORIAN
BEGIN:VEVENT
UID:sabre-vobject-110ffb2f-a540-49ff-8cc9-3deefd61bae6
DTSTAMP:20260423T143122Z
SUMMARY:Month of the Military Child Bingo
DESCRIPTION:Come out and let you kiddos enjoy some great games of bingo wit
 h lunch and goodie bags.\n
X-ALT-DESC:FMTTYPE=text/html:<!DOCTYPE HTML PUBLIC "-//W3C//DTD HTML 3.2//E
 N"><HTML><p>Come out and let you kiddos enjoy some great games of bingo wi
 th lunch and goodie bags.</p>\n</HTML>
CREATED;TZID=America/Chicago:20190404T145517
URL;VALUE=URI:https://hood.armymwr.com/view-event
DTSTART;TZID=America/Chicago:20190413T100000
DTEND;TZID=America/Chicago:20190413T110000
SEQUENCE:0
END:VEVENT
END:VCALENDAR
