BEGIN:VCALENDAR
VERSION:2.0
PRODID:-//Sabre//Sabre VObject 4.5.8//EN
CALSCALE:GREGORIAN
BEGIN:VEVENT
UID:sabre-vobject-a0aeeea8-a3dd-4eed-a333-5bae15f58cb1
DTSTAMP:20260423T143121Z
SUMMARY:Black Light Spin Party
DESCRIPTION:Come out for a great sweat under the black lights.\n
X-ALT-DESC:FMTTYPE=text/html:<!DOCTYPE HTML PUBLIC "-//W3C//DTD HTML 3.2//E
 N"><HTML><p>Come out for a great sweat under the black lights.</p>\n</HTML
 >
CREATED;TZID=America/Chicago:20190404T105431
URL;VALUE=URI:https://hood.armymwr.com/view-event
DTSTART;TZID=America/Chicago:20190413T090000
DTEND;TZID=America/Chicago:20190413T110000
SEQUENCE:0
END:VEVENT
END:VCALENDAR
