BEGIN:VCALENDAR
VERSION:2.0
PRODID:-//Sabre//Sabre VObject 4.5.8//EN
CALSCALE:GREGORIAN
BEGIN:VEVENT
UID:sabre-vobject-1d83f847-48a1-434c-97df-5ca0b234e1fc
DTSTAMP:20260422T092725Z
SUMMARY:Lifeguard and Waterfront Certification Classes
DESCRIPTION:Do something that will last you a lifetime. Challenge yourself 
 and learn what it takes to become a lifeguard with one of our class sessio
 ns.\n
X-ALT-DESC:FMTTYPE=text/html:<!DOCTYPE HTML PUBLIC "-//W3C//DTD HTML 3.2//E
 N"><HTML><p>Do something that will last you a lifetime. Challenge yourself
  and learn what it takes to become a lifeguard with one of our class sessi
 ons.</p>\n</HTML>
CREATED;TZID=America/Chicago:20190305T110924
URL;VALUE=URI:https://hood.armymwr.com/view-event
DTSTART;TZID=America/Chicago:20190603T083000
DTEND;TZID=America/Chicago:20190607T093000
SEQUENCE:0
END:VEVENT
END:VCALENDAR
