BEGIN:VCALENDAR
VERSION:2.0
PRODID:-//Sabre//Sabre VObject 4.5.8//EN
CALSCALE:GREGORIAN
BEGIN:VEVENT
UID:sabre-vobject-2a5a0121-f43a-4025-b427-ce9e865ef57a
DTSTAMP:20260425T103755Z
SUMMARY:Par Busters 2-Person Tournament
DESCRIPTION:Nothing like a great game of golf to relax and enjoy some time 
 on the course\n
X-ALT-DESC:FMTTYPE=text/html:<!DOCTYPE HTML PUBLIC "-//W3C//DTD HTML 3.2//E
 N"><HTML><p>Nothing like a great game of golf to relax and enjoy some time
  on the course</p>\n</HTML>
CREATED;TZID=America/Chicago:20190301T151629
URL;VALUE=URI:https://hood.armymwr.com/view-event
DTSTART;TZID=America/Chicago:20190309T090000
DTEND;TZID=America/Chicago:20190310T120000
SEQUENCE:0
END:VEVENT
END:VCALENDAR
