BEGIN:VCALENDAR
VERSION:2.0
PRODID:-//Sabre//Sabre VObject 4.5.8//EN
CALSCALE:GREGORIAN
BEGIN:VEVENT
UID:sabre-vobject-31c4ca6a-7465-4bdd-976a-eed07c99ebe5
DTSTAMP:20260424T081242Z
SUMMARY:UFC 235 Fight Night Watch Party
DESCRIPTION:UFC&rsquo\;s first Las Vegas event of 2019 promises to be one t
 o remember\, with a championship&nbsp\;doubleheader headlining UFC 235.\n
X-ALT-DESC:FMTTYPE=text/html:<!DOCTYPE HTML PUBLIC "-//W3C//DTD HTML 3.2//E
 N"><HTML><p>UFC&rsquo\;s first Las Vegas event of 2019 promises to be one 
 to remember\, with a championship&nbsp\;doubleheader headlining UFC 235.</
 p>\n</HTML>
CREATED;TZID=America/Chicago:20190227T145528
URL;VALUE=URI:https://hood.armymwr.com/view-event
DTSTART;TZID=America/Chicago:20190302T190000
DTEND;TZID=America/Chicago:20190302T200000
SEQUENCE:0
END:VEVENT
END:VCALENDAR
