BEGIN:VCALENDAR
VERSION:2.0
PRODID:-//Sabre//Sabre VObject 4.5.8//EN
CALSCALE:GREGORIAN
BEGIN:VEVENT
UID:sabre-vobject-00ffce1b-9d6d-4b69-a28c-7e0ceab27fa7
DTSTAMP:20260424T034131Z
SUMMARY:Warrior Call
DESCRIPTION:Initiative\, resiliency and connectivity... make a call\, take 
 a call and be honest.\n
X-ALT-DESC:FMTTYPE=text/html:<!DOCTYPE HTML PUBLIC "-//W3C//DTD HTML 3.2//E
 N"><HTML><p>Initiative\, resiliency and connectivity... make a call\, take
  a call and be honest.</p>\n</HTML>
CREATED;TZID=America/Chicago:20190221T132930
URL;VALUE=URI:https://hood.armymwr.com/view-event
DTSTART;TZID=America/Chicago:20190307T140000
DTEND;TZID=America/Chicago:20190307T150000
SEQUENCE:0
END:VEVENT
END:VCALENDAR
