BEGIN:VCALENDAR
VERSION:2.0
PRODID:-//Sabre//Sabre VObject 4.5.8//EN
CALSCALE:GREGORIAN
BEGIN:VEVENT
UID:sabre-vobject-d135acc8-cc38-4b37-9642-b07ea2005a54
DTSTAMP:20260424T082342Z
SUMMARY:Glow Run 5K
DESCRIPTION:Come out and run with us&nbsp\;while lighting up the path with 
 all your glow in the dark accessories.\n
X-ALT-DESC:FMTTYPE=text/html:<!DOCTYPE HTML PUBLIC "-//W3C//DTD HTML 3.2//E
 N"><HTML><p>Come out and run with us&nbsp\;while lighting up the path with
  all your glow in the dark accessories.</p>\n</HTML>
CREATED;TZID=America/Chicago:20190213T102217
URL;VALUE=URI:https://hood.armymwr.com/view-event
DTSTART;TZID=America/Chicago:20190302T193000
DTEND;TZID=America/Chicago:20190302T203000
SEQUENCE:0
END:VEVENT
END:VCALENDAR
