BEGIN:VCALENDAR
VERSION:2.0
PRODID:-//Sabre//Sabre VObject 4.5.8//EN
CALSCALE:GREGORIAN
BEGIN:VEVENT
UID:sabre-vobject-507c8bd9-ece8-4123-bba4-7ce8c0661ddb
DTSTAMP:20260424T171020Z
SUMMARY:Super Hero 5K Run / Walk
DESCRIPTION:Come out in your best super hero attire and have some fun with 
 us.\n
X-ALT-DESC:FMTTYPE=text/html:<!DOCTYPE HTML PUBLIC "-//W3C//DTD HTML 3.2//E
 N"><HTML><p>Come out in your best super hero attire and have some fun with
  us.</p>\n</HTML>
CREATED;TZID=America/Chicago:20190129T144310
URL;VALUE=URI:https://hood.armymwr.com/view-event
DTSTART;TZID=America/Chicago:20190209T080000
DTEND;TZID=America/Chicago:20190209T090000
SEQUENCE:0
END:VEVENT
END:VCALENDAR
