BEGIN:VCALENDAR
VERSION:2.0
PRODID:-//Sabre//Sabre VObject 4.5.8//EN
CALSCALE:GREGORIAN
BEGIN:VEVENT
UID:sabre-vobject-d0673284-ad32-476c-ac6a-3057f3cd82bf
DTSTAMP:20260424T171022Z
SUMMARY:Super Bowl LIII Watch Party
DESCRIPTION:Come out to the Samuel Adams&nbsp\;Brewhouse for the BIG game a
 nd enjoy a beverage and plenty of menu options.\n
X-ALT-DESC:FMTTYPE=text/html:<!DOCTYPE HTML PUBLIC "-//W3C//DTD HTML 3.2//E
 N"><HTML><p>Come out to the Samuel Adams&nbsp\;Brewhouse for the BIG game 
 and enjoy a beverage and plenty of menu options.</p>\n</HTML>
CREATED;TZID=America/Chicago:20190201T142911
URL;VALUE=URI:https://hood.armymwr.com/view-event
DTSTART;TZID=America/Chicago:20190203T163000
DTEND;TZID=America/Chicago:20190203T173000
SEQUENCE:0
END:VEVENT
END:VCALENDAR
