BEGIN:VCALENDAR
VERSION:2.0
PRODID:-//Sabre//Sabre VObject 4.5.8//EN
CALSCALE:GREGORIAN
BEGIN:VEVENT
UID:sabre-vobject-fbf50a18-d1f9-452b-b6ab-d8ae2166029a
DTSTAMP:20260425T000827Z
SUMMARY:Cardio Blowout
DESCRIPTION:Come down to Abrams PFC and get your sweat on with us.\n
X-ALT-DESC:FMTTYPE=text/html:<!DOCTYPE HTML PUBLIC "-//W3C//DTD HTML 3.2//E
 N"><HTML><p>Come down to Abrams PFC and get your sweat on with us.</p>\n</
 HTML>
CREATED;TZID=America/Chicago:20190107T115024
URL;VALUE=URI:https://hood.armymwr.com/view-event
DTSTART;TZID=America/Chicago:20190112T090000
DTEND;TZID=America/Chicago:20190112T110000
SEQUENCE:0
END:VEVENT
END:VCALENDAR
