BEGIN:VCALENDAR
VERSION:2.0
PRODID:-//Sabre//Sabre VObject 4.5.8//EN
CALSCALE:GREGORIAN
BEGIN:VEVENT
UID:sabre-vobject-43b34c2f-9f3d-4ac0-8fa7-c70b7b6765f6
DTSTAMP:20260423T215243Z
SUMMARY:Moonlight Paddle
DESCRIPTION:Join Adventure Programs for a fun outdoor experience under the 
 moonlight at BLORA.\n
X-ALT-DESC:FMTTYPE=text/html:<!DOCTYPE HTML PUBLIC "-//W3C//DTD HTML 3.2//E
 N"><HTML><p>Join Adventure Programs for a fun outdoor experience under the
  moonlight at BLORA.</p>\n</HTML>
CREATED;TZID=America/Chicago:20181221T131715
URL;VALUE=URI:https://hood.armymwr.com/view-event
DTSTART;TZID=America/Chicago:20190120T200000
DTEND;TZID=America/Chicago:20190120T220000
SEQUENCE:0
END:VEVENT
BEGIN:VEVENT
UID:sabre-vobject-de5ada49-cf84-4268-bf63-2156d55a86c2
DTSTAMP:20260423T215243Z
SUMMARY:Moonlight Paddle
DESCRIPTION:Join Adventure Programs for a fun outdoor experience under the 
 moonlight at BLORA.\n
X-ALT-DESC:FMTTYPE=text/html:<!DOCTYPE HTML PUBLIC "-//W3C//DTD HTML 3.2//E
 N"><HTML><p>Join Adventure Programs for a fun outdoor experience under the
  moonlight at BLORA.</p>\n</HTML>
CREATED;TZID=America/Chicago:20181221T131715
URL;VALUE=URI:https://hood.armymwr.com/view-event
DTSTART;TZID=America/Chicago:20190219T200000
DTEND;TZID=America/Chicago:20190219T220000
SEQUENCE:1
END:VEVENT
BEGIN:VEVENT
UID:sabre-vobject-0dd8db46-86bd-48cd-a547-0a2b4e6b23e6
DTSTAMP:20260423T215243Z
SUMMARY:Moonlight Paddle
DESCRIPTION:Join Adventure Programs for a fun outdoor experience under the 
 moonlight at BLORA.\n
X-ALT-DESC:FMTTYPE=text/html:<!DOCTYPE HTML PUBLIC "-//W3C//DTD HTML 3.2//E
 N"><HTML><p>Join Adventure Programs for a fun outdoor experience under the
  moonlight at BLORA.</p>\n</HTML>
CREATED;TZID=America/Chicago:20181221T131715
URL;VALUE=URI:https://hood.armymwr.com/view-event
DTSTART;TZID=America/Chicago:20190320T200000
DTEND;TZID=America/Chicago:20190320T220000
SEQUENCE:2
END:VEVENT
END:VCALENDAR
