BEGIN:VCALENDAR
VERSION:2.0
PRODID:-//Sabre//Sabre VObject 4.5.8//EN
CALSCALE:GREGORIAN
BEGIN:VEVENT
UID:sabre-vobject-13bb847b-dda8-4b53-8316-b33423d3a3c7
DTSTAMP:20260425T152326Z
SUMMARY:Turkey Golf Scramble
DESCRIPTION:Gobble... Gobbbble... Gobbbbbbble... get out on the course and 
 enjoy fun\, camaraderie and leisure on The Courses of Clear Creek.\n
X-ALT-DESC:FMTTYPE=text/html:<!DOCTYPE HTML PUBLIC "-//W3C//DTD HTML 3.2//E
 N"><HTML><p>Gobble... Gobbbble... Gobbbbbbble... get out on the course and
  enjoy fun\, camaraderie and leisure on The Courses of Clear Creek.</p>\n<
 /HTML>
CREATED;TZID=America/Chicago:20181031T125158
URL;VALUE=URI:https://hood.armymwr.com/view-event
DTSTART;TZID=America/Chicago:20181117T090000
DTEND;TZID=America/Chicago:20181117T100000
SEQUENCE:0
END:VEVENT
END:VCALENDAR
