BEGIN:VCALENDAR
VERSION:2.0
PRODID:-//Sabre//Sabre VObject 4.5.8//EN
CALSCALE:GREGORIAN
BEGIN:VEVENT
UID:sabre-vobject-faee404f-26c6-4a50-b5b8-6d4a9148c307
DTSTAMP:20260426T014625Z
SUMMARY:Children's Halloween Bingo
DESCRIPTION:Children will receive lunch\, goodies and of course BINGO!\n
X-ALT-DESC:FMTTYPE=text/html:<!DOCTYPE HTML PUBLIC "-//W3C//DTD HTML 3.2//E
 N"><HTML><p>Children will receive lunch\, goodies and of course BINGO!</p>
 \n</HTML>
CREATED;TZID=America/Chicago:20181025T090702
URL;VALUE=URI:https://hood.armymwr.com/view-event
DTSTART;TZID=America/Chicago:20181027T100000
DTEND;TZID=America/Chicago:20181027T110000
SEQUENCE:0
END:VEVENT
END:VCALENDAR
