BEGIN:VCALENDAR
VERSION:2.0
PRODID:-//Sabre//Sabre VObject 4.5.8//EN
CALSCALE:GREGORIAN
BEGIN:VEVENT
UID:sabre-vobject-d7c76d9c-ae4b-4893-8f8b-2084fe658eb1
DTSTAMP:20260425T184743Z
SUMMARY:Fall Demo Day and Sale
DESCRIPTION:The latest in golf equipment for patrons to demo.\n
X-ALT-DESC:FMTTYPE=text/html:<!DOCTYPE HTML PUBLIC "-//W3C//DTD HTML 3.2//E
 N"><HTML><p>The latest in golf equipment for patrons to demo.</p>\n</HTML>
CREATED;TZID=America/Chicago:20181005T125017
URL;VALUE=URI:https://hood.armymwr.com/view-event
DTSTART;TZID=America/Chicago:20181027T090000
DTEND;TZID=America/Chicago:20181027T150000
SEQUENCE:0
END:VEVENT
END:VCALENDAR
