BEGIN:VCALENDAR
VERSION:2.0
PRODID:-//Sabre//Sabre VObject 4.5.8//EN
CALSCALE:GREGORIAN
BEGIN:VEVENT
UID:sabre-vobject-3d78b9a3-1a3d-4f0c-a022-0519262f71ab
DTSTAMP:20260426T040042Z
SUMMARY:Dip Exercise Competition
DESCRIPTION:Total of Dip Repititions completed on Dip Exercise apparartus i
 n 90 seconds\n
X-ALT-DESC:FMTTYPE=text/html:<!DOCTYPE HTML PUBLIC "-//W3C//DTD HTML 3.2//E
 N"><HTML><p>Total of Dip Repititions completed on Dip Exercise apparartus 
 in 90 seconds</p>\n</HTML>
CREATED;TZID=America/Chicago:20180904T164842
URL;VALUE=URI:https://hood.armymwr.com/view-event
DTSTART;TZID=America/Chicago:20181020T120000
DTEND;TZID=America/Chicago:20181020T150000
SEQUENCE:0
END:VEVENT
END:VCALENDAR
