BEGIN:VCALENDAR
VERSION:2.0
PRODID:-//Sabre//Sabre VObject 4.5.8//EN
CALSCALE:GREGORIAN
BEGIN:VEVENT
UID:sabre-vobject-4391a460-177a-437e-8f53-077cc37b815c
DTSTAMP:20260422T220203Z
SUMMARY:BOSS: Dave and Buster's Trip
DESCRIPTION:Register today for a day trip full of gaming\, fun and more.\n
X-ALT-DESC:FMTTYPE=text/html:<!DOCTYPE HTML PUBLIC "-//W3C//DTD HTML 3.2//E
 N"><HTML><p>Register today for a day trip full of gaming\, fun and more.</
 p>\n</HTML>
CREATED;TZID=America/Chicago:20260304T094005
URL;VALUE=URI:https://hood.armymwr.com/view-event
DTSTART;TZID=America/Chicago:20260307T120000
DTEND;TZID=America/Chicago:20260307T130000
SEQUENCE:0
END:VEVENT
END:VCALENDAR
