BEGIN:VCALENDAR
VERSION:2.0
PRODID:-//Sabre//Sabre VObject 4.5.8//EN
CALSCALE:GREGORIAN
BEGIN:VEVENT
UID:sabre-vobject-16a78277-cdc2-4e04-8be3-236fed7944fd
DTSTAMP:20260421T010232Z
SUMMARY:Shamrock Shenanigans Run / Walk
DESCRIPTION:Join us in a fun run filled with a foam party\, games\, music a
 nd food.&nbsp\;No need to run\, just come and have some shamrock fun.\n
X-ALT-DESC:FMTTYPE=text/html:<!DOCTYPE HTML PUBLIC "-//W3C//DTD HTML 3.2//E
 N"><HTML><p>Join us in a fun run filled with a foam party\, games\, music 
 and food.&nbsp\;No need to run\, just come and have some shamrock fun.</p>
 \n</HTML>
CREATED;TZID=America/Chicago:20260227T094739
URL;VALUE=URI:https://hood.armymwr.com/view-event
DTSTART;TZID=America/Chicago:20260314T190000
DTEND;TZID=America/Chicago:20260314T210000
SEQUENCE:0
END:VEVENT
END:VCALENDAR
