BEGIN:VCALENDAR
VERSION:2.0
PRODID:-//Sabre//Sabre VObject 4.5.8//EN
CALSCALE:GREGORIAN
BEGIN:VEVENT
UID:sabre-vobject-09bfc424-67cd-4905-ad7c-bd11da4b6ac7
DTSTAMP:20260421T024937Z
SUMMARY:Learn to Swim
DESCRIPTION:Registration Is Open - Available for 2-26 February: Swim Lesson
 s available for children 6 months - 5+ years and adult lessons for 14 year
 s and up.\n
X-ALT-DESC:FMTTYPE=text/html:<!DOCTYPE HTML PUBLIC "-//W3C//DTD HTML 3.2//E
 N"><HTML><p>Registration Is Open - Available for 2-26 February: Swim Lesso
 ns available for children 6 months - 5+ years and adult lessons for 14 yea
 rs and up.</p>\n</HTML>
CREATED;TZID=America/Chicago:20260113T085621
URL;VALUE=URI:https://hood.armymwr.com/view-event
DTSTART;TZID=America/Chicago:20260202T090000
DTEND;TZID=America/Chicago:20260226T184500
SEQUENCE:0
END:VEVENT
END:VCALENDAR
