BEGIN:VCALENDAR
VERSION:2.0
PRODID:-//Sabre//Sabre VObject 4.5.8//EN
CALSCALE:GREGORIAN
BEGIN:VEVENT
UID:sabre-vobject-fb0e801e-c76f-4c88-94cd-b37a9a1ecdb0
DTSTAMP:20260421T042731Z
SUMMARY:True Crime: Dinner Detective Murder Mystery
DESCRIPTION:Put your detective hat on while enjoying a great meal and live 
 entertainment.\n
X-ALT-DESC:FMTTYPE=text/html:<!DOCTYPE HTML PUBLIC "-//W3C//DTD HTML 3.2//E
 N"><HTML><p>Put your detective hat on while enjoying a great meal and live
  entertainment.</p>\n</HTML>
CREATED;TZID=America/Chicago:20260113T110217
URL;VALUE=URI:https://hood.armymwr.com/view-event
DTSTART;TZID=America/Chicago:20260130T173000
DTEND;TZID=America/Chicago:20260130T183000
SEQUENCE:0
END:VEVENT
END:VCALENDAR
