BEGIN:VCALENDAR
VERSION:2.0
PRODID:-//Sabre//Sabre VObject 4.5.8//EN
CALSCALE:GREGORIAN
BEGIN:VEVENT
UID:sabre-vobject-28df7d25-f064-433c-8ec8-e6d18fc0740c
DTSTAMP:20260424T143824Z
SUMMARY:Children's Halloween Bingo
DESCRIPTION:Prizes for Bingo Winners and Goodie Bags for All Children in At
 tendance.\n
X-ALT-DESC:FMTTYPE=text/html:<!DOCTYPE HTML PUBLIC "-//W3C//DTD HTML 3.2//E
 N"><HTML><p>Prizes for Bingo Winners and Goodie Bags for All Children in A
 ttendance.</p>\n</HTML>
CREATED;TZID=America/Chicago:20250919T152210
URL;VALUE=URI:https://hood.armymwr.com/view-event
DTSTART;TZID=America/Chicago:20251018T110000
DTEND;TZID=America/Chicago:20251018T120000
SEQUENCE:0
END:VEVENT
END:VCALENDAR
